BEGIN:VCALENDAR
VERSION:2.0
PRODID:-//MYSO - ECPv6.15.16//NONSGML v1.0//EN
CALSCALE:GREGORIAN
METHOD:PUBLISH
X-ORIGINAL-URL:https://myso.org
X-WR-CALDESC:Events for MYSO
REFRESH-INTERVAL;VALUE=DURATION:PT1H
X-Robots-Tag:noindex
X-PUBLISHED-TTL:PT1H
BEGIN:VTIMEZONE
TZID:America/Chicago
BEGIN:DAYLIGHT
TZOFFSETFROM:-0600
TZOFFSETTO:-0500
TZNAME:CDT
DTSTART:20240310T080000
END:DAYLIGHT
BEGIN:STANDARD
TZOFFSETFROM:-0500
TZOFFSETTO:-0600
TZNAME:CST
DTSTART:20241103T070000
END:STANDARD
BEGIN:DAYLIGHT
TZOFFSETFROM:-0600
TZOFFSETTO:-0500
TZNAME:CDT
DTSTART:20250309T080000
END:DAYLIGHT
BEGIN:STANDARD
TZOFFSETFROM:-0500
TZOFFSETTO:-0600
TZNAME:CST
DTSTART:20251102T070000
END:STANDARD
BEGIN:DAYLIGHT
TZOFFSETFROM:-0600
TZOFFSETTO:-0500
TZNAME:CDT
DTSTART:20260308T080000
END:DAYLIGHT
BEGIN:STANDARD
TZOFFSETFROM:-0500
TZOFFSETTO:-0600
TZNAME:CST
DTSTART:20261101T070000
END:STANDARD
END:VTIMEZONE
BEGIN:VEVENT
DTSTART;TZID=America/Chicago:20250423T161500
DTEND;TZID=America/Chicago:20250423T183000
DTSTAMP:20260420T143810
CREATED:20241023T052018Z
LAST-MODIFIED:20241023T052018Z
UID:10006884-1745424900-1745433000@myso.org
SUMMARY:Chamber Orchestra Rehearsal
DESCRIPTION:This content is MYSO members only. Please login to continue. \n  \n  \n            \n\n                       \n            \n        \n                              Username\n        \n        \n      \n      \n        \n          Password\n          \n            \n            \n              \n            \n          \n        \n      \n            \n         Remember Me\n      \n       \n      \n        \n        \n        \n        \n      \n    \n     \n    \n        \n          Forgot Password
URL:https://myso.org/events/chamber-orchestra-rehearsal-83/
LOCATION:Milwaukee Youth Arts Center\, 325 W Walnut St\, Milwaukee\, WI\, 53212
CATEGORIES:Rehearsals
END:VEVENT
BEGIN:VEVENT
DTSTART;TZID=America/Chicago:20250423T163000
DTEND;TZID=America/Chicago:20250423T173000
DTSTAMP:20260420T143810
CREATED:20241023T052021Z
LAST-MODIFIED:20241023T052021Z
UID:10006885-1745425800-1745429400@myso.org
SUMMARY:1st Year Progressions - Masterclasses
DESCRIPTION:This content is MYSO members only. Please login to continue. \n  \n  \n            \n\n                       \n            \n        \n                              Username\n        \n        \n      \n      \n        \n          Password\n          \n            \n            \n              \n            \n          \n        \n      \n            \n         Remember Me\n      \n       \n      \n        \n        \n        \n        \n      \n    \n     \n    \n        \n          Forgot Password
URL:https://myso.org/events/1st-year-progressions-masterclasses-115/
LOCATION:Milwaukee Youth Arts Center\, 325 W Walnut St\, Milwaukee\, WI\, 53212
CATEGORIES:Rehearsals
END:VEVENT
BEGIN:VEVENT
DTSTART;TZID=America/Chicago:20250423T170000
DTEND;TZID=America/Chicago:20250423T180000
DTSTAMP:20260420T143810
CREATED:20241023T052021Z
LAST-MODIFIED:20241023T052021Z
UID:10006886-1745427600-1745431200@myso.org
SUMMARY:1st Year Prelude Wind Ensemble - SECTIONALS
DESCRIPTION:This content is MYSO members only. Please login to continue. \n  \n  \n            \n\n                       \n            \n        \n                              Username\n        \n        \n      \n      \n        \n          Password\n          \n            \n            \n              \n            \n          \n        \n      \n            \n         Remember Me\n      \n       \n      \n        \n        \n        \n        \n      \n    \n     \n    \n        \n          Forgot Password
URL:https://myso.org/events/1st-year-prelude-wind-ensemble-sectionals-58/
LOCATION:Milwaukee Youth Arts Center\, 325 W Walnut St\, Milwaukee\, WI\, 53212
CATEGORIES:Rehearsals
END:VEVENT
BEGIN:VEVENT
DTSTART;TZID=America/Chicago:20250423T173000
DTEND;TZID=America/Chicago:20250423T183000
DTSTAMP:20260420T143810
CREATED:20241023T052022Z
LAST-MODIFIED:20241023T052022Z
UID:10006888-1745429400-1745433000@myso.org
SUMMARY:2nd Year Progressions - Orchestra Dress Rehearsal
DESCRIPTION:This content is MYSO members only. Please login to continue.
URL:https://myso.org/events/2nd-year-progressions-orchestra-dress-rehearsal-2/
LOCATION:Milwaukee Youth Arts Center\, 325 W Walnut St\, Milwaukee\, WI\, 53212
CATEGORIES:Rehearsals
END:VEVENT
BEGIN:VEVENT
DTSTART;TZID=America/Chicago:20250423T173000
DTEND;TZID=America/Chicago:20250423T193000
DTSTAMP:20260420T143810
CREATED:20241023T052022Z
LAST-MODIFIED:20241023T052022Z
UID:10006890-1745429400-1745436600@myso.org
SUMMARY:Jazz Studies - Swing Combo Rehearsals
DESCRIPTION:This content is MYSO members only. Please login to continue.
URL:https://myso.org/events/jazz-studies-swing-combo-rehearsals-59/
LOCATION:Milwaukee Youth Arts Center\, 325 W Walnut St\, Milwaukee\, WI\, 53212
CATEGORIES:Rehearsals
END:VEVENT
BEGIN:VEVENT
DTSTART;TZID=America/Chicago:20250423T180000
DTEND;TZID=America/Chicago:20250423T193000
DTSTAMP:20260420T143810
CREATED:20241023T052022Z
LAST-MODIFIED:20241023T052022Z
UID:10006892-1745431200-1745436600@myso.org
SUMMARY:2nd Year Prelude Wind Ensemble - DRESS REHEARSAL
DESCRIPTION:This content is MYSO members only. Please login to continue.
URL:https://myso.org/events/2nd-year-prelude-wind-ensemble-dress-rehearsal-6/
LOCATION:Milwaukee Youth Arts Center\, 325 W Walnut St\, Milwaukee\, WI\, 53212
CATEGORIES:Rehearsals
END:VEVENT
BEGIN:VEVENT
DTSTART;TZID=America/Chicago:20250423T193000
DTEND;TZID=America/Chicago:20250423T213000
DTSTAMP:20260420T143810
CREATED:20241023T052023Z
LAST-MODIFIED:20241023T052023Z
UID:10006894-1745436600-1745443800@myso.org
SUMMARY:Jazz Studies - Bebop & Beyond Combo Rehearsals
DESCRIPTION:This content is MYSO members only. Please login to continue.
URL:https://myso.org/events/jazz-studies-bebop-beyond-combo-rehearsals-67/
LOCATION:Milwaukee Youth Arts Center\, 325 W Walnut St\, Milwaukee\, WI\, 53212
CATEGORIES:Rehearsals
END:VEVENT
END:VCALENDAR