BEGIN:VCALENDAR
VERSION:2.0
PRODID:-//MYSO - ECPv6.15.16//NONSGML v1.0//EN
CALSCALE:GREGORIAN
METHOD:PUBLISH
X-WR-CALNAME:MYSO
X-ORIGINAL-URL:https://myso.org
X-WR-CALDESC:Events for MYSO
REFRESH-INTERVAL;VALUE=DURATION:PT1H
X-Robots-Tag:noindex
X-PUBLISHED-TTL:PT1H
BEGIN:VTIMEZONE
TZID:America/Chicago
BEGIN:DAYLIGHT
TZOFFSETFROM:-0600
TZOFFSETTO:-0500
TZNAME:CDT
DTSTART:20240310T080000
END:DAYLIGHT
BEGIN:STANDARD
TZOFFSETFROM:-0500
TZOFFSETTO:-0600
TZNAME:CST
DTSTART:20241103T070000
END:STANDARD
BEGIN:DAYLIGHT
TZOFFSETFROM:-0600
TZOFFSETTO:-0500
TZNAME:CDT
DTSTART:20250309T080000
END:DAYLIGHT
BEGIN:STANDARD
TZOFFSETFROM:-0500
TZOFFSETTO:-0600
TZNAME:CST
DTSTART:20251102T070000
END:STANDARD
BEGIN:DAYLIGHT
TZOFFSETFROM:-0600
TZOFFSETTO:-0500
TZNAME:CDT
DTSTART:20260308T080000
END:DAYLIGHT
BEGIN:STANDARD
TZOFFSETFROM:-0500
TZOFFSETTO:-0600
TZNAME:CST
DTSTART:20261101T070000
END:STANDARD
END:VTIMEZONE
BEGIN:VEVENT
DTSTART;TZID=America/Chicago:20250910T163000
DTEND;TZID=America/Chicago:20250910T173000
DTSTAMP:20260419T094428
CREATED:20250822T002138Z
LAST-MODIFIED:20250822T002138Z
UID:10009097-1757521800-1757525400@myso.org
SUMMARY:Progressions - 1st Year Masterclasses
DESCRIPTION:This content is MYSO members only. Please login to continue. \n  \n  \n            \n\n                       \n            \n        \n                              Username\n        \n        \n      \n      \n        \n          Password\n          \n            \n            \n              \n            \n          \n        \n      \n            \n         Remember Me\n      \n       \n      \n        \n        \n        \n        \n      \n    \n     \n    \n        \n          Forgot Password
URL:https://myso.org/events/progressions-1st-year-masterclasses/
LOCATION:Milwaukee Youth Arts Center\, 325 W Walnut St\, Milwaukee\, WI\, 53212
CATEGORIES:Rehearsals
END:VEVENT
BEGIN:VEVENT
DTSTART;TZID=America/Chicago:20250910T170000
DTEND;TZID=America/Chicago:20250910T180000
DTSTAMP:20260419T094428
CREATED:20250822T152010Z
LAST-MODIFIED:20250822T152010Z
UID:10009419-1757523600-1757527200@myso.org
SUMMARY:Prelude Wind Ensemble - 1st Year Sectionals
DESCRIPTION:This content is MYSO members only. Please login to continue. \n  \n  \n            \n\n                       \n            \n        \n                              Username\n        \n        \n      \n      \n        \n          Password\n          \n            \n            \n              \n            \n          \n        \n      \n            \n         Remember Me\n      \n       \n      \n        \n        \n        \n        \n      \n    \n     \n    \n        \n          Forgot Password
URL:https://myso.org/events/prelude-wind-ensemble-1st-year-sectionals/
LOCATION:Milwaukee Youth Arts Center\, 325 W Walnut St\, Milwaukee\, WI\, 53212
CATEGORIES:Rehearsals
END:VEVENT
BEGIN:VEVENT
DTSTART;TZID=America/Chicago:20250910T173000
DTEND;TZID=America/Chicago:20250910T193000
DTSTAMP:20260419T094428
CREATED:20250820T182041Z
LAST-MODIFIED:20250820T182041Z
UID:10008713-1757525400-1757532600@myso.org
SUMMARY:Senior Symphony Rehearsal
DESCRIPTION:This content is MYSO members only. Please login to continue. \n  \n  \n            \n\n                       \n            \n        \n                              Username\n        \n        \n      \n      \n        \n          Password\n          \n            \n            \n              \n            \n          \n        \n      \n            \n         Remember Me\n      \n       \n      \n        \n        \n        \n        \n      \n    \n     \n    \n        \n          Forgot Password
URL:https://myso.org/events/senior-symphony-rehearsal-138/
LOCATION:Milwaukee Youth Arts Center\, 325 W Walnut St\, Milwaukee\, WI\, 53212
CATEGORIES:Rehearsals
END:VEVENT
BEGIN:VEVENT
DTSTART;TZID=America/Chicago:20250910T173000
DTEND;TZID=America/Chicago:20250910T183000
DTSTAMP:20260419T094428
CREATED:20250822T002138Z
LAST-MODIFIED:20250822T002138Z
UID:10009098-1757525400-1757529000@myso.org
SUMMARY:Progressions - 2nd Year Masterclasses
DESCRIPTION:This content is MYSO members only. Please login to continue. \n  \n  \n            \n\n                       \n            \n        \n                              Username\n        \n        \n      \n      \n        \n          Password\n          \n            \n            \n              \n            \n          \n        \n      \n            \n         Remember Me\n      \n       \n      \n        \n        \n        \n        \n      \n    \n     \n    \n        \n          Forgot Password
URL:https://myso.org/events/progressions-2nd-year-masterclasses/
LOCATION:Milwaukee Youth Arts Center\, 325 W Walnut St\, Milwaukee\, WI\, 53212
CATEGORIES:Rehearsals
END:VEVENT
BEGIN:VEVENT
DTSTART;TZID=America/Chicago:20250910T173000
DTEND;TZID=America/Chicago:20250910T193000
DTSTAMP:20260419T094428
CREATED:20250822T002139Z
LAST-MODIFIED:20250822T002139Z
UID:10009099-1757525400-1757532600@myso.org
SUMMARY:Jazz Studies - Swing Combos Rehearsal
DESCRIPTION:This content is MYSO members only. Please login to continue. \n  \n  \n            \n\n                       \n            \n        \n                              Username\n        \n        \n      \n      \n        \n          Password\n          \n            \n            \n              \n            \n          \n        \n      \n            \n         Remember Me\n      \n       \n      \n        \n        \n        \n        \n      \n    \n     \n    \n        \n          Forgot Password
URL:https://myso.org/events/jazz-studies-swing-combos-rehearsal/
LOCATION:Milwaukee Youth Arts Center\, 325 W Walnut St\, Milwaukee\, WI\, 53212
CATEGORIES:Rehearsals
END:VEVENT
BEGIN:VEVENT
DTSTART;TZID=America/Chicago:20250910T180000
DTEND;TZID=America/Chicago:20250910T190000
DTSTAMP:20260419T094428
CREATED:20250822T152010Z
LAST-MODIFIED:20250822T152010Z
UID:10009420-1757527200-1757530800@myso.org
SUMMARY:Prelude Wind Ensemble - 2nd Year Sectionals
DESCRIPTION:This content is MYSO members only. Please login to continue. \n  \n  \n            \n\n                       \n            \n        \n                              Username\n        \n        \n      \n      \n        \n          Password\n          \n            \n            \n              \n            \n          \n        \n      \n            \n         Remember Me\n      \n       \n      \n        \n        \n        \n        \n      \n    \n     \n    \n        \n          Forgot Password
URL:https://myso.org/events/prelude-wind-ensemble-2nd-year-sectionals/
LOCATION:Milwaukee Youth Arts Center\, 325 W Walnut St\, Milwaukee\, WI\, 53212
CATEGORIES:Rehearsals
END:VEVENT
BEGIN:VEVENT
DTSTART;TZID=America/Chicago:20250910T193000
DTEND;TZID=America/Chicago:20250910T213000
DTSTAMP:20260419T094428
CREATED:20250822T002139Z
LAST-MODIFIED:20250822T002139Z
UID:10009100-1757532600-1757539800@myso.org
SUMMARY:Jazz Studies - Bebop & Beyond Combos Rehearsal
DESCRIPTION:This content is MYSO members only. Please login to continue. \n  \n  \n            \n\n                       \n            \n        \n                              Username\n        \n        \n      \n      \n        \n          Password\n          \n            \n            \n              \n            \n          \n        \n      \n            \n         Remember Me\n      \n       \n      \n        \n        \n        \n        \n      \n    \n     \n    \n        \n          Forgot Password
URL:https://myso.org/events/jazz-studies-bebop-beyond-combos-rehearsal/
LOCATION:Milwaukee Youth Arts Center\, 325 W Walnut St\, Milwaukee\, WI\, 53212
CATEGORIES:Rehearsals
END:VEVENT
END:VCALENDAR