BEGIN:VCALENDAR
VERSION:2.0
PRODID:-//MYSO - ECPv6.15.16//NONSGML v1.0//EN
CALSCALE:GREGORIAN
METHOD:PUBLISH
X-ORIGINAL-URL:https://myso.org
X-WR-CALDESC:Events for MYSO
REFRESH-INTERVAL;VALUE=DURATION:PT1H
X-Robots-Tag:noindex
X-PUBLISHED-TTL:PT1H
BEGIN:VTIMEZONE
TZID:America/Chicago
BEGIN:DAYLIGHT
TZOFFSETFROM:-0600
TZOFFSETTO:-0500
TZNAME:CDT
DTSTART:20250309T080000
END:DAYLIGHT
BEGIN:STANDARD
TZOFFSETFROM:-0500
TZOFFSETTO:-0600
TZNAME:CST
DTSTART:20251102T070000
END:STANDARD
BEGIN:DAYLIGHT
TZOFFSETFROM:-0600
TZOFFSETTO:-0500
TZNAME:CDT
DTSTART:20260308T080000
END:DAYLIGHT
BEGIN:STANDARD
TZOFFSETFROM:-0500
TZOFFSETTO:-0600
TZNAME:CST
DTSTART:20261101T070000
END:STANDARD
BEGIN:DAYLIGHT
TZOFFSETFROM:-0600
TZOFFSETTO:-0500
TZNAME:CDT
DTSTART:20270314T080000
END:DAYLIGHT
BEGIN:STANDARD
TZOFFSETFROM:-0500
TZOFFSETTO:-0600
TZNAME:CST
DTSTART:20271107T070000
END:STANDARD
END:VTIMEZONE
BEGIN:VEVENT
DTSTART;TZID=America/Chicago:20260121T163000
DTEND;TZID=America/Chicago:20260121T173000
DTSTAMP:20260421T132644
CREATED:20250822T002250Z
LAST-MODIFIED:20250822T002250Z
UID:10009258-1769013000-1769016600@myso.org
SUMMARY:Progressions - 1st Year Masterclasses
DESCRIPTION:This content is MYSO members only. Please login to continue. \n  \n  \n            \n\n                       \n            \n        \n                              Username\n        \n        \n      \n      \n        \n          Password\n          \n            \n            \n              \n            \n          \n        \n      \n            \n         Remember Me\n      \n       \n      \n        \n        \n        \n        \n      \n    \n     \n    \n        \n          Forgot Password
URL:https://myso.org/events/progressions-1st-year-masterclasses-17/
LOCATION:Milwaukee Youth Arts Center\, 325 W Walnut St\, Milwaukee\, WI\, 53212
CATEGORIES:Rehearsals
END:VEVENT
BEGIN:VEVENT
DTSTART;TZID=America/Chicago:20260121T170000
DTEND;TZID=America/Chicago:20260121T180000
DTSTAMP:20260421T132644
CREATED:20250822T152048Z
LAST-MODIFIED:20250822T152048Z
UID:10009532-1769014800-1769018400@myso.org
SUMMARY:Prelude Wind Ensemble - 1st Year Sectionals
DESCRIPTION:This content is MYSO members only. Please login to continue. \n  \n  \n            \n\n                       \n            \n        \n                              Username\n        \n        \n      \n      \n        \n          Password\n          \n            \n            \n              \n            \n          \n        \n      \n            \n         Remember Me\n      \n       \n      \n        \n        \n        \n        \n      \n    \n     \n    \n        \n          Forgot Password
URL:https://myso.org/events/prelude-wind-ensemble-1st-year-sectionals-20/
LOCATION:Milwaukee Youth Arts Center\, 325 W Walnut St\, Milwaukee\, WI\, 53212
CATEGORIES:Rehearsals
END:VEVENT
BEGIN:VEVENT
DTSTART;TZID=America/Chicago:20260121T173000
DTEND;TZID=America/Chicago:20260121T183000
DTSTAMP:20260421T132644
CREATED:20250822T002250Z
LAST-MODIFIED:20250822T002250Z
UID:10009259-1769016600-1769020200@myso.org
SUMMARY:Progressions - 2nd Year Masterclasses
DESCRIPTION:This content is MYSO members only. Please login to continue. \n  \n  \n            \n\n                       \n            \n        \n                              Username\n        \n        \n      \n      \n        \n          Password\n          \n            \n            \n              \n            \n          \n        \n      \n            \n         Remember Me\n      \n       \n      \n        \n        \n        \n        \n      \n    \n     \n    \n        \n          Forgot Password
URL:https://myso.org/events/progressions-2nd-year-masterclasses-17/
LOCATION:Milwaukee Youth Arts Center\, 325 W Walnut St\, Milwaukee\, WI\, 53212
CATEGORIES:Rehearsals
END:VEVENT
BEGIN:VEVENT
DTSTART;TZID=America/Chicago:20260121T173000
DTEND;TZID=America/Chicago:20260121T193000
DTSTAMP:20260421T132644
CREATED:20250822T002250Z
LAST-MODIFIED:20250822T002250Z
UID:10009260-1769016600-1769023800@myso.org
SUMMARY:Jazz Studies - Swing Combos Rehearsal
DESCRIPTION:This content is MYSO members only. Please login to continue. \n  \n  \n            \n\n                       \n            \n        \n                              Username\n        \n        \n      \n      \n        \n          Password\n          \n            \n            \n              \n            \n          \n        \n      \n            \n         Remember Me\n      \n       \n      \n        \n        \n        \n        \n      \n    \n     \n    \n        \n          Forgot Password
URL:https://myso.org/events/jazz-studies-swing-combos-rehearsal-17/
LOCATION:Milwaukee Youth Arts Center\, 325 W Walnut St\, Milwaukee\, WI\, 53212
CATEGORIES:Rehearsals
END:VEVENT
BEGIN:VEVENT
DTSTART;TZID=America/Chicago:20260121T180000
DTEND;TZID=America/Chicago:20260121T190000
DTSTAMP:20260421T132644
CREATED:20250822T152049Z
LAST-MODIFIED:20250822T152049Z
UID:10009533-1769018400-1769022000@myso.org
SUMMARY:Prelude Wind Ensemble - 2nd Year Sectionals
DESCRIPTION:This content is MYSO members only. Please login to continue. \n  \n  \n            \n\n                       \n            \n        \n                              Username\n        \n        \n      \n      \n        \n          Password\n          \n            \n            \n              \n            \n          \n        \n      \n            \n         Remember Me\n      \n       \n      \n        \n        \n        \n        \n      \n    \n     \n    \n        \n          Forgot Password
URL:https://myso.org/events/prelude-wind-ensemble-2nd-year-sectionals-20/
LOCATION:Milwaukee Youth Arts Center\, 325 W Walnut St\, Milwaukee\, WI\, 53212
CATEGORIES:Rehearsals
END:VEVENT
BEGIN:VEVENT
DTSTART;TZID=America/Chicago:20260121T193000
DTEND;TZID=America/Chicago:20260121T213000
DTSTAMP:20260421T132644
CREATED:20250822T002251Z
LAST-MODIFIED:20250822T002251Z
UID:10009261-1769023800-1769031000@myso.org
SUMMARY:Jazz Studies - Bebop & Beyond Combos Rehearsal
DESCRIPTION:This content is MYSO members only. Please login to continue. \n  \n  \n            \n\n                       \n            \n        \n                              Username\n        \n        \n      \n      \n        \n          Password\n          \n            \n            \n              \n            \n          \n        \n      \n            \n         Remember Me\n      \n       \n      \n        \n        \n        \n        \n      \n    \n     \n    \n        \n          Forgot Password
URL:https://myso.org/events/jazz-studies-bebop-beyond-combos-rehearsal-17/
LOCATION:Milwaukee Youth Arts Center\, 325 W Walnut St\, Milwaukee\, WI\, 53212
CATEGORIES:Rehearsals
END:VEVENT
END:VCALENDAR