BEGIN:VCALENDAR
VERSION:2.0
PRODID:-//MYSO - ECPv6.15.16//NONSGML v1.0//EN
CALSCALE:GREGORIAN
METHOD:PUBLISH
X-ORIGINAL-URL:https://myso.org
X-WR-CALDESC:Events for MYSO
REFRESH-INTERVAL;VALUE=DURATION:PT1H
X-Robots-Tag:noindex
X-PUBLISHED-TTL:PT1H
BEGIN:VTIMEZONE
TZID:America/Chicago
BEGIN:DAYLIGHT
TZOFFSETFROM:-0600
TZOFFSETTO:-0500
TZNAME:CDT
DTSTART:20250309T080000
END:DAYLIGHT
BEGIN:STANDARD
TZOFFSETFROM:-0500
TZOFFSETTO:-0600
TZNAME:CST
DTSTART:20251102T070000
END:STANDARD
BEGIN:DAYLIGHT
TZOFFSETFROM:-0600
TZOFFSETTO:-0500
TZNAME:CDT
DTSTART:20260308T080000
END:DAYLIGHT
BEGIN:STANDARD
TZOFFSETFROM:-0500
TZOFFSETTO:-0600
TZNAME:CST
DTSTART:20261101T070000
END:STANDARD
BEGIN:DAYLIGHT
TZOFFSETFROM:-0600
TZOFFSETTO:-0500
TZNAME:CDT
DTSTART:20270314T080000
END:DAYLIGHT
BEGIN:STANDARD
TZOFFSETFROM:-0500
TZOFFSETTO:-0600
TZNAME:CST
DTSTART:20271107T070000
END:STANDARD
END:VTIMEZONE
BEGIN:VEVENT
DTSTART;TZID=America/Chicago:20260422T161500
DTEND;TZID=America/Chicago:20260422T183000
DTSTAMP:20260421T085855
CREATED:20251028T202028Z
LAST-MODIFIED:20251028T202028Z
UID:10009846-1776874500-1776882600@myso.org
SUMMARY:Chamber Orchestra Rehearsal
DESCRIPTION:This content is MYSO members only. Please login to continue. \n  \n  \n            \n\n                       \n            \n        \n                              Username\n        \n        \n      \n      \n        \n          Password\n          \n            \n            \n              \n            \n          \n        \n      \n            \n         Remember Me\n      \n       \n      \n        \n        \n        \n        \n      \n    \n     \n    \n        \n          Forgot Password
URL:https://myso.org/events/chamber-orchestra-rehearsal-102/
LOCATION:Milwaukee Youth Arts Center\, 325 W Walnut St\, Milwaukee\, WI\, 53212
CATEGORIES:Rehearsals
END:VEVENT
BEGIN:VEVENT
DTSTART;TZID=America/Chicago:20260422T163000
DTEND;TZID=America/Chicago:20260422T173000
DTSTAMP:20260421T085855
CREATED:20250822T012137Z
LAST-MODIFIED:20250822T012137Z
UID:10009379-1776875400-1776879000@myso.org
SUMMARY:Progressions - 1st Year Orchestra
DESCRIPTION:This content is MYSO members only. Please login to continue. \n  \n  \n            \n\n                       \n            \n        \n                              Username\n        \n        \n      \n      \n        \n          Password\n          \n            \n            \n              \n            \n          \n        \n      \n            \n         Remember Me\n      \n       \n      \n        \n        \n        \n        \n      \n    \n     \n    \n        \n          Forgot Password
URL:https://myso.org/events/progressions-1st-year-orchestra-27/
LOCATION:Milwaukee Youth Arts Center\, 325 W Walnut St\, Milwaukee\, WI\, 53212
CATEGORIES:Rehearsals
END:VEVENT
BEGIN:VEVENT
DTSTART;TZID=America/Chicago:20260422T170000
DTEND;TZID=America/Chicago:20260422T180000
DTSTAMP:20260421T085855
CREATED:20250822T152116Z
LAST-MODIFIED:20250822T152116Z
UID:10009610-1776877200-1776880800@myso.org
SUMMARY:Prelude Wind Ensemble - 1st Year Sectionals
DESCRIPTION:This content is MYSO members only. Please login to continue. \n  \n  \n            \n\n                       \n            \n        \n                              Username\n        \n        \n      \n      \n        \n          Password\n          \n            \n            \n              \n            \n          \n        \n      \n            \n         Remember Me\n      \n       \n      \n        \n        \n        \n        \n      \n    \n     \n    \n        \n          Forgot Password
URL:https://myso.org/events/prelude-wind-ensemble-1st-year-sectionals-33/
LOCATION:Milwaukee Youth Arts Center\, 325 W Walnut St\, Milwaukee\, WI\, 53212
CATEGORIES:Rehearsals
END:VEVENT
BEGIN:VEVENT
DTSTART;TZID=America/Chicago:20260422T173000
DTEND;TZID=America/Chicago:20260422T183000
DTSTAMP:20260421T085855
CREATED:20250822T012138Z
LAST-MODIFIED:20250822T012138Z
UID:10009380-1776879000-1776882600@myso.org
SUMMARY:Progressions - 2nd Year Dress Rehearsal
DESCRIPTION:This content is MYSO members only. Please login to continue. \n  \n  \n            \n\n                       \n            \n        \n                              Username\n        \n        \n      \n      \n        \n          Password\n          \n            \n            \n              \n            \n          \n        \n      \n            \n         Remember Me\n      \n       \n      \n        \n        \n        \n        \n      \n    \n     \n    \n        \n          Forgot Password
URL:https://myso.org/events/progressions-2nd-year-dress-rehearsal/
LOCATION:Milwaukee Youth Arts Center\, 325 W Walnut St\, Milwaukee\, WI\, 53212
CATEGORIES:Rehearsals
END:VEVENT
BEGIN:VEVENT
DTSTART;TZID=America/Chicago:20260422T173000
DTEND;TZID=America/Chicago:20260422T193000
DTSTAMP:20260421T085855
CREATED:20250822T012138Z
LAST-MODIFIED:20250822T012138Z
UID:10009381-1776879000-1776886200@myso.org
SUMMARY:Jazz Studies - Swing Combos Rehearsal
DESCRIPTION:This content is MYSO members only. Please login to continue. \n  \n  \n            \n\n                       \n            \n        \n                              Username\n        \n        \n      \n      \n        \n          Password\n          \n            \n            \n              \n            \n          \n        \n      \n            \n         Remember Me\n      \n       \n      \n        \n        \n        \n        \n      \n    \n     \n    \n        \n          Forgot Password
URL:https://myso.org/events/jazz-studies-swing-combos-rehearsal-28/
LOCATION:Milwaukee Youth Arts Center\, 325 W Walnut St\, Milwaukee\, WI\, 53212
CATEGORIES:Rehearsals
END:VEVENT
BEGIN:VEVENT
DTSTART;TZID=America/Chicago:20260422T180000
DTEND;TZID=America/Chicago:20260422T190000
DTSTAMP:20260421T085855
CREATED:20250822T152116Z
LAST-MODIFIED:20250822T152116Z
UID:10009611-1776880800-1776884400@myso.org
SUMMARY:Prelude Wind Ensemble - 2nd Year Sectionals
DESCRIPTION:This content is MYSO members only. Please login to continue. \n  \n  \n            \n\n                       \n            \n        \n                              Username\n        \n        \n      \n      \n        \n          Password\n          \n            \n            \n              \n            \n          \n        \n      \n            \n         Remember Me\n      \n       \n      \n        \n        \n        \n        \n      \n    \n     \n    \n        \n          Forgot Password
URL:https://myso.org/events/prelude-wind-ensemble-2nd-year-sectionals-33/
LOCATION:Milwaukee Youth Arts Center\, 325 W Walnut St\, Milwaukee\, WI\, 53212
CATEGORIES:Rehearsals
END:VEVENT
BEGIN:VEVENT
DTSTART;TZID=America/Chicago:20260422T180000
DTEND;TZID=America/Chicago:20260422T193000
DTSTAMP:20260421T085855
CREATED:20250822T162020Z
LAST-MODIFIED:20250822T162020Z
UID:10009642-1776880800-1776886200@myso.org
SUMMARY:Prelude Wind Ensemble - 2nd Year Band Dress Rehearsal
DESCRIPTION:This content is MYSO members only. Please login to continue. \n  \n  \n            \n\n                       \n            \n        \n                              Username\n        \n        \n      \n      \n        \n          Password\n          \n            \n            \n              \n            \n          \n        \n      \n            \n         Remember Me\n      \n       \n      \n        \n        \n        \n        \n      \n    \n     \n    \n        \n          Forgot Password
URL:https://myso.org/events/prelude-wind-ensemble-2nd-year-band-dress-rehearsal-4/
LOCATION:Milwaukee Youth Arts Center\, 325 W Walnut St\, Milwaukee\, WI\, 53212
CATEGORIES:Rehearsals
END:VEVENT
BEGIN:VEVENT
DTSTART;TZID=America/Chicago:20260422T193000
DTEND;TZID=America/Chicago:20260422T213000
DTSTAMP:20260421T085855
CREATED:20250822T012139Z
LAST-MODIFIED:20250822T012139Z
UID:10009382-1776886200-1776893400@myso.org
SUMMARY:Jazz Studies - Bebop & Beyond Combos Rehearsal
DESCRIPTION:This content is MYSO members only. Please login to continue. \n  \n  \n            \n\n                       \n            \n        \n                              Username\n        \n        \n      \n      \n        \n          Password\n          \n            \n            \n              \n            \n          \n        \n      \n            \n         Remember Me\n      \n       \n      \n        \n        \n        \n        \n      \n    \n     \n    \n        \n          Forgot Password
URL:https://myso.org/events/jazz-studies-bebop-beyond-combos-rehearsal-28/
LOCATION:Milwaukee Youth Arts Center\, 325 W Walnut St\, Milwaukee\, WI\, 53212
CATEGORIES:Rehearsals
END:VEVENT
END:VCALENDAR