BEGIN:VCALENDAR
VERSION:2.0
PRODID:-//MYSO - ECPv6.15.16//NONSGML v1.0//EN
CALSCALE:GREGORIAN
METHOD:PUBLISH
X-WR-CALNAME:MYSO
X-ORIGINAL-URL:https://myso.org
X-WR-CALDESC:Events for MYSO
REFRESH-INTERVAL;VALUE=DURATION:PT1H
X-Robots-Tag:noindex
X-PUBLISHED-TTL:PT1H
BEGIN:VTIMEZONE
TZID:America/Chicago
BEGIN:DAYLIGHT
TZOFFSETFROM:-0600
TZOFFSETTO:-0500
TZNAME:CDT
DTSTART:20250309T080000
END:DAYLIGHT
BEGIN:STANDARD
TZOFFSETFROM:-0500
TZOFFSETTO:-0600
TZNAME:CST
DTSTART:20251102T070000
END:STANDARD
BEGIN:DAYLIGHT
TZOFFSETFROM:-0600
TZOFFSETTO:-0500
TZNAME:CDT
DTSTART:20260308T080000
END:DAYLIGHT
BEGIN:STANDARD
TZOFFSETFROM:-0500
TZOFFSETTO:-0600
TZNAME:CST
DTSTART:20261101T070000
END:STANDARD
BEGIN:DAYLIGHT
TZOFFSETFROM:-0600
TZOFFSETTO:-0500
TZNAME:CDT
DTSTART:20270314T080000
END:DAYLIGHT
BEGIN:STANDARD
TZOFFSETFROM:-0500
TZOFFSETTO:-0600
TZNAME:CST
DTSTART:20271107T070000
END:STANDARD
END:VTIMEZONE
BEGIN:VEVENT
DTSTART;TZID=America/Chicago:20260309T153000
DTEND;TZID=America/Chicago:20260309T190000
DTSTAMP:20260420T172727
CREATED:20250822T012114Z
LAST-MODIFIED:20250822T012114Z
UID:10009326-1773070200-1773082800@myso.org
SUMMARY:Progressions - 2nd Year Lessons
DESCRIPTION:This content is MYSO members only. Please login to continue. \n  \n  \n            \n\n                       \n            \n        \n                              Username\n        \n        \n      \n      \n        \n          Password\n          \n            \n            \n              \n            \n          \n        \n      \n            \n         Remember Me\n      \n       \n      \n        \n        \n        \n        \n      \n    \n     \n    \n        \n          Forgot Password
URL:https://myso.org/events/progressions-2nd-year-lessons-24/
LOCATION:Milwaukee Youth Arts Center\, 325 W Walnut St\, Milwaukee\, WI\, 53212
CATEGORIES:Rehearsals
END:VEVENT
BEGIN:VEVENT
DTSTART;TZID=America/Chicago:20260309T163000
DTEND;TZID=America/Chicago:20260309T180000
DTSTAMP:20260420T172727
CREATED:20250821T202056Z
LAST-MODIFIED:20250821T202056Z
UID:10008991-1773073800-1773079200@myso.org
SUMMARY:Chamber Flute Ensemble Rehearsal
DESCRIPTION:This content is MYSO members only. Please login to continue.
URL:https://myso.org/events/chamber-flute-ensemble-rehearsal-145/
LOCATION:Milwaukee Youth Arts Center\, 325 W Walnut St\, Milwaukee\, WI\, 53212
CATEGORIES:Rehearsals
END:VEVENT
BEGIN:VEVENT
DTSTART;TZID=America/Chicago:20260309T164500
DTEND;TZID=America/Chicago:20260309T181500
DTSTAMP:20260420T172727
CREATED:20251118T182024Z
LAST-MODIFIED:20251118T182024Z
UID:10009864-1773074700-1773080100@myso.org
SUMMARY:Percussion Ensemble Rehearsal
DESCRIPTION:This content is MYSO members only. Please login to continue.
URL:https://myso.org/events/percussion-ensemble-rehearsal-37/
LOCATION:Milwaukee Youth Arts Center\, 325 W Walnut St\, Milwaukee\, WI\, 53212
CATEGORIES:Rehearsals
END:VEVENT
BEGIN:VEVENT
DTSTART;TZID=America/Chicago:20260309T170000
DTEND;TZID=America/Chicago:20260309T181500
DTSTAMP:20260420T172727
CREATED:20250821T202056Z
LAST-MODIFIED:20250821T202056Z
UID:10008992-1773075600-1773080100@myso.org
SUMMARY:Prelude Orchestra Rehearsal
DESCRIPTION:This content is MYSO members only. Please login to continue.
URL:https://myso.org/events/prelude-orchestra-rehearsal-151/
LOCATION:Milwaukee Youth Arts Center\, 325 W Walnut St\, Milwaukee\, WI\, 53212
CATEGORIES:Rehearsals
END:VEVENT
BEGIN:VEVENT
DTSTART;TZID=America/Chicago:20260309T173000
DTEND;TZID=America/Chicago:20260309T204500
DTSTAMP:20260420T172727
CREATED:20250820T182059Z
LAST-MODIFIED:20250820T182059Z
UID:10008750-1773077400-1773089100@myso.org
SUMMARY:Senior Symphony Rehearsal
DESCRIPTION:This content is MYSO members only. Please login to continue.
URL:https://myso.org/events/senior-symphony-rehearsal-161/
LOCATION:Milwaukee Youth Arts Center\, 325 W Walnut St\, Milwaukee\, WI\, 53212
CATEGORIES:Rehearsals
END:VEVENT
BEGIN:VEVENT
DTSTART;TZID=America/Chicago:20260309T181500
DTEND;TZID=America/Chicago:20260309T193000
DTSTAMP:20260420T172727
CREATED:20250821T202057Z
LAST-MODIFIED:20250821T202057Z
UID:10008993-1773080100-1773084600@myso.org
SUMMARY:Flute Chorale Rehearsal
DESCRIPTION:This content is MYSO members only. Please login to continue.
URL:https://myso.org/events/flute-chorale-rehearsal-144/
LOCATION:Milwaukee Youth Arts Center\, 325 W Walnut St\, Milwaukee\, WI\, 53212
CATEGORIES:Rehearsals
END:VEVENT
BEGIN:VEVENT
DTSTART;TZID=America/Chicago:20260309T183000
DTEND;TZID=America/Chicago:20260309T210000
DTSTAMP:20260420T172727
CREATED:20250820T202021Z
LAST-MODIFIED:20250820T202021Z
UID:10008790-1773081000-1773090000@myso.org
SUMMARY:Metropolitan Symphony Rehearsal
DESCRIPTION:This content is MYSO members only. Please login to continue.
URL:https://myso.org/events/metropolitan-symphony-rehearsal-42/
LOCATION:Milwaukee Youth Arts Center\, 325 W Walnut St\, Milwaukee\, WI\, 53212
CATEGORIES:Rehearsals
END:VEVENT
BEGIN:VEVENT
DTSTART;TZID=America/Chicago:20260309T183000
DTEND;TZID=America/Chicago:20260309T194500
DTSTAMP:20260420T172727
CREATED:20250822T192025Z
LAST-MODIFIED:20250822T192025Z
UID:10009675-1773081000-1773085500@myso.org
SUMMARY:String Orchestra Central Rehearsal
DESCRIPTION:This content is MYSO members only. Please login to continue.
URL:https://myso.org/events/string-orchestra-central-rehearsal-117/
LOCATION:Milwaukee Youth Arts Center\, 325 W Walnut St\, Milwaukee\, WI\, 53212
CATEGORIES:Rehearsals
END:VEVENT
BEGIN:VEVENT
DTSTART;TZID=America/Chicago:20260309T183000
DTEND;TZID=America/Chicago:20260309T194500
DTSTAMP:20260420T172727
CREATED:20250823T162039Z
LAST-MODIFIED:20250823T162039Z
UID:10009742-1773081000-1773085500@myso.org
SUMMARY:String Orchestra North Rehearsal - AT JCC
DESCRIPTION:This content is MYSO members only. Please login to continue.
URL:https://myso.org/events/string-orchestra-north-rehearsal-at-jcc-14/
LOCATION:Harry & Rose Samson Family Jewish Community Center (6255 N Santa Monica Blvd\, Milwaukee\, WI  53217)
CATEGORIES:Rehearsals
END:VEVENT
BEGIN:VEVENT
DTSTART;TZID=America/Chicago:20260309T183000
DTEND;TZID=America/Chicago:20260309T194500
DTSTAMP:20260420T172727
CREATED:20250823T162040Z
LAST-MODIFIED:20250823T162040Z
UID:10009743-1773081000-1773085500@myso.org
SUMMARY:String Orchestra West Rehearsal - AT SLWC
DESCRIPTION:This content is MYSO members only. Please login to continue.
URL:https://myso.org/events/string-orchestra-west-rehearsal-at-slwc-14/
LOCATION:Sharon Lynne Wilson Center for the Arts (3270 Mitchell Park Drive\, Mitchell Park\, Brookfield\, WI  53045-2722)
CATEGORIES:Rehearsals
END:VEVENT
BEGIN:VEVENT
DTSTART;TZID=America/Chicago:20260309T183000
DTEND;TZID=America/Chicago:20260309T194500
DTSTAMP:20260420T172727
CREATED:20250823T172233Z
LAST-MODIFIED:20250823T172233Z
UID:10009788-1773081000-1773085500@myso.org
SUMMARY:String Orchestra South Rehearsal - AT GMS
DESCRIPTION:This content is MYSO members only. Please login to continue.
URL:https://myso.org/events/string-orchestra-south-rehearsal-at-gms-14/
LOCATION:Greendale Schools (6800 Schoolway\, Greendale\, WI  53129)
CATEGORIES:Rehearsals
END:VEVENT
BEGIN:VEVENT
DTSTART;TZID=America/Chicago:20260310T153000
DTEND;TZID=America/Chicago:20260310T190000
DTSTAMP:20260420T172727
CREATED:20250822T012115Z
LAST-MODIFIED:20250822T012115Z
UID:10009327-1773156600-1773169200@myso.org
SUMMARY:Progressions - 1st Year Lessons
DESCRIPTION:This content is MYSO members only. Please login to continue.
URL:https://myso.org/events/progressions-1st-year-lessons-24/
LOCATION:Milwaukee Youth Arts Center\, 325 W Walnut St\, Milwaukee\, WI\, 53212
CATEGORIES:Rehearsals
END:VEVENT
BEGIN:VEVENT
DTSTART;TZID=America/Chicago:20260310T170000
DTEND;TZID=America/Chicago:20260310T180000
DTSTAMP:20260420T172727
CREATED:20250822T152103Z
LAST-MODIFIED:20250822T152103Z
UID:10009572-1773162000-1773165600@myso.org
SUMMARY:Prelude Wind Ensemble - 1st Year Lessons
DESCRIPTION:This content is MYSO members only. Please login to continue.
URL:https://myso.org/events/prelude-wind-ensemble-1st-year-lessons-26/
LOCATION:Milwaukee Youth Arts Center\, 325 W Walnut St\, Milwaukee\, WI\, 53212
CATEGORIES:Rehearsals
END:VEVENT
BEGIN:VEVENT
DTSTART;TZID=America/Chicago:20260310T170000
DTEND;TZID=America/Chicago:20260310T193000
DTSTAMP:20260420T172727
CREATED:20250822T162017Z
LAST-MODIFIED:20250822T162017Z
UID:10009638-1773162000-1773171000@myso.org
SUMMARY:Prelude Wind Ensemble - 1st & 2nd Year Solo Festival
DESCRIPTION:This content is MYSO members only. Please login to continue.
URL:https://myso.org/events/prelude-wind-ensemble-1st-2nd-year-solo-festival/
LOCATION:Milwaukee Youth Arts Center\, 325 W Walnut St\, Milwaukee\, WI\, 53212
CATEGORIES:Rehearsals
END:VEVENT
BEGIN:VEVENT
DTSTART;TZID=America/Chicago:20260310T180000
DTEND;TZID=America/Chicago:20260310T190000
DTSTAMP:20260420T172727
CREATED:20250822T152103Z
LAST-MODIFIED:20250822T152103Z
UID:10009573-1773165600-1773169200@myso.org
SUMMARY:Prelude Wind Ensemble - 2nd Year Lessons
DESCRIPTION:This content is MYSO members only. Please login to continue.
URL:https://myso.org/events/prelude-wind-ensemble-2nd-year-lessons-26/
LOCATION:Milwaukee Youth Arts Center\, 325 W Walnut St\, Milwaukee\, WI\, 53212
CATEGORIES:Rehearsals
END:VEVENT
BEGIN:VEVENT
DTSTART;TZID=America/Chicago:20260311T161500
DTEND;TZID=America/Chicago:20260311T183000
DTSTAMP:20260420T172727
CREATED:20251028T202024Z
LAST-MODIFIED:20251028T202024Z
UID:10009841-1773245700-1773253800@myso.org
SUMMARY:Chamber Orchestra Rehearsal
DESCRIPTION:This content is MYSO members only. Please login to continue.
URL:https://myso.org/events/chamber-orchestra-rehearsal-97/
LOCATION:Milwaukee Youth Arts Center\, 325 W Walnut St\, Milwaukee\, WI\, 53212
CATEGORIES:Rehearsals
END:VEVENT
BEGIN:VEVENT
DTSTART;TZID=America/Chicago:20260311T163000
DTEND;TZID=America/Chicago:20260311T173000
DTSTAMP:20260420T172727
CREATED:20250822T012115Z
LAST-MODIFIED:20250822T012115Z
UID:10009328-1773246600-1773250200@myso.org
SUMMARY:Progressions - 1st Year Masterclasses
DESCRIPTION:This content is MYSO members only. Please login to continue.
URL:https://myso.org/events/progressions-1st-year-masterclasses-23/
LOCATION:Milwaukee Youth Arts Center\, 325 W Walnut St\, Milwaukee\, WI\, 53212
CATEGORIES:Rehearsals
END:VEVENT
BEGIN:VEVENT
DTSTART;TZID=America/Chicago:20260311T170000
DTEND;TZID=America/Chicago:20260311T180000
DTSTAMP:20260420T172727
CREATED:20250822T152103Z
LAST-MODIFIED:20250822T152103Z
UID:10009574-1773248400-1773252000@myso.org
SUMMARY:Prelude Wind Ensemble - 1st Year Sectionals
DESCRIPTION:This content is MYSO members only. Please login to continue.
URL:https://myso.org/events/prelude-wind-ensemble-1st-year-sectionals-27/
LOCATION:Milwaukee Youth Arts Center\, 325 W Walnut St\, Milwaukee\, WI\, 53212
CATEGORIES:Rehearsals
END:VEVENT
BEGIN:VEVENT
DTSTART;TZID=America/Chicago:20260311T173000
DTEND;TZID=America/Chicago:20260311T183000
DTSTAMP:20260420T172727
CREATED:20250822T012116Z
LAST-MODIFIED:20250822T012116Z
UID:10009329-1773250200-1773253800@myso.org
SUMMARY:Progressions - 2nd Year Masterclasses
DESCRIPTION:This content is MYSO members only. Please login to continue.
URL:https://myso.org/events/progressions-2nd-year-masterclasses-23/
LOCATION:Milwaukee Youth Arts Center\, 325 W Walnut St\, Milwaukee\, WI\, 53212
CATEGORIES:Rehearsals
END:VEVENT
BEGIN:VEVENT
DTSTART;TZID=America/Chicago:20260311T173000
DTEND;TZID=America/Chicago:20260311T193000
DTSTAMP:20260420T172727
CREATED:20250822T012116Z
LAST-MODIFIED:20250822T012116Z
UID:10009330-1773250200-1773257400@myso.org
SUMMARY:Jazz Studies - Swing Combos Rehearsal
DESCRIPTION:This content is MYSO members only. Please login to continue.
URL:https://myso.org/events/jazz-studies-swing-combos-rehearsal-23/
LOCATION:Milwaukee Youth Arts Center\, 325 W Walnut St\, Milwaukee\, WI\, 53212
CATEGORIES:Rehearsals
END:VEVENT
BEGIN:VEVENT
DTSTART;TZID=America/Chicago:20260311T180000
DTEND;TZID=America/Chicago:20260311T190000
DTSTAMP:20260420T172727
CREATED:20250822T152104Z
LAST-MODIFIED:20250822T152104Z
UID:10009575-1773252000-1773255600@myso.org
SUMMARY:Prelude Wind Ensemble - 2nd Year Sectionals
DESCRIPTION:This content is MYSO members only. Please login to continue.
URL:https://myso.org/events/prelude-wind-ensemble-2nd-year-sectionals-27/
LOCATION:Milwaukee Youth Arts Center\, 325 W Walnut St\, Milwaukee\, WI\, 53212
CATEGORIES:Rehearsals
END:VEVENT
BEGIN:VEVENT
DTSTART;TZID=America/Chicago:20260311T193000
DTEND;TZID=America/Chicago:20260311T213000
DTSTAMP:20260420T172727
CREATED:20250822T012116Z
LAST-MODIFIED:20250822T012116Z
UID:10009331-1773257400-1773264600@myso.org
SUMMARY:Jazz Studies - Bebop & Beyond Combos Rehearsal
DESCRIPTION:This content is MYSO members only. Please login to continue.
URL:https://myso.org/events/jazz-studies-bebop-beyond-combos-rehearsal-23/
LOCATION:Milwaukee Youth Arts Center\, 325 W Walnut St\, Milwaukee\, WI\, 53212
CATEGORIES:Rehearsals
END:VEVENT
BEGIN:VEVENT
DTSTART;TZID=America/Chicago:20260312T161500
DTEND;TZID=America/Chicago:20260312T181500
DTSTAMP:20260420T172727
CREATED:20250821T162121Z
LAST-MODIFIED:20250821T162121Z
UID:10008877-1773332100-1773339300@myso.org
SUMMARY:Sinfonia Rehearsal
DESCRIPTION:This content is MYSO members only. Please login to continue.
URL:https://myso.org/events/sinfonia-rehearsal-140/
LOCATION:Milwaukee Youth Arts Center\, 325 W Walnut St\, Milwaukee\, WI\, 53212
CATEGORIES:Rehearsals
END:VEVENT
BEGIN:VEVENT
DTSTART;TZID=America/Chicago:20260312T163000
DTEND;TZID=America/Chicago:20260312T183000
DTSTAMP:20260420T172727
CREATED:20250821T212049Z
LAST-MODIFIED:20250821T212049Z
UID:10009074-1773333000-1773340200@myso.org
SUMMARY:Steel Pans - Soca Rehearsal
DESCRIPTION:This content is MYSO members only. Please login to continue.
URL:https://myso.org/events/steel-pans-soca-rehearsal-54/
LOCATION:Milwaukee Youth Arts Center\, 325 W Walnut St\, Milwaukee\, WI\, 53212
CATEGORIES:Rehearsals
END:VEVENT
BEGIN:VEVENT
DTSTART;TZID=America/Chicago:20260312T163000
DTEND;TZID=America/Chicago:20260312T173000
DTSTAMP:20260420T172727
CREATED:20250822T012117Z
LAST-MODIFIED:20250822T012117Z
UID:10009332-1773333000-1773336600@myso.org
SUMMARY:Progressions - 1st Year Orchestra
DESCRIPTION:This content is MYSO members only. Please login to continue.
URL:https://myso.org/events/progressions-1st-year-orchestra-23/
LOCATION:Milwaukee Youth Arts Center\, 325 W Walnut St\, Milwaukee\, WI\, 53212
CATEGORIES:Rehearsals
END:VEVENT
BEGIN:VEVENT
DTSTART;TZID=America/Chicago:20260312T163000
DTEND;TZID=America/Chicago:20260312T180000
DTSTAMP:20260420T172727
CREATED:20250822T152104Z
LAST-MODIFIED:20250822T152104Z
UID:10009576-1773333000-1773338400@myso.org
SUMMARY:Prelude Wind Ensemble - 1st Year Band Class
DESCRIPTION:This content is MYSO members only. Please login to continue.
URL:https://myso.org/events/prelude-wind-ensemble-1st-year-band-class-27/
LOCATION:Milwaukee Youth Arts Center\, 325 W Walnut St\, Milwaukee\, WI\, 53212
CATEGORIES:Rehearsals
END:VEVENT
BEGIN:VEVENT
DTSTART;TZID=America/Chicago:20260312T173000
DTEND;TZID=America/Chicago:20260312T183000
DTSTAMP:20260420T172727
CREATED:20250822T012117Z
LAST-MODIFIED:20250822T012117Z
UID:10009333-1773336600-1773340200@myso.org
SUMMARY:Progressions - 2nd Year Orchestra
DESCRIPTION:This content is MYSO members only. Please login to continue.
URL:https://myso.org/events/progressions-2nd-year-orchestra-23/
LOCATION:Milwaukee Youth Arts Center\, 325 W Walnut St\, Milwaukee\, WI\, 53212
CATEGORIES:Rehearsals
END:VEVENT
BEGIN:VEVENT
DTSTART;TZID=America/Chicago:20260312T173000
DTEND;TZID=America/Chicago:20260312T193000
DTSTAMP:20260420T172727
CREATED:20250822T012118Z
LAST-MODIFIED:20250822T012118Z
UID:10009334-1773336600-1773343800@myso.org
SUMMARY:Jazz Studies - The Blues Combo Rehearsal
DESCRIPTION:This content is MYSO members only. Please login to continue.
URL:https://myso.org/events/jazz-studies-the-blues-combo-rehearsal-54/
LOCATION:Milwaukee Youth Arts Center\, 325 W Walnut St\, Milwaukee\, WI\, 53212
CATEGORIES:Rehearsals
END:VEVENT
BEGIN:VEVENT
DTSTART;TZID=America/Chicago:20260312T180000
DTEND;TZID=America/Chicago:20260312T193000
DTSTAMP:20260420T172727
CREATED:20250822T152104Z
LAST-MODIFIED:20250822T152104Z
UID:10009577-1773338400-1773343800@myso.org
SUMMARY:Prelude Wind Ensemble - 2nd Year Band Class
DESCRIPTION:This content is MYSO members only. Please login to continue.
URL:https://myso.org/events/prelude-wind-ensemble-2nd-year-band-class-26/
LOCATION:Milwaukee Youth Arts Center\, 325 W Walnut St\, Milwaukee\, WI\, 53212
CATEGORIES:Rehearsals
END:VEVENT
BEGIN:VEVENT
DTSTART;TZID=America/Chicago:20260312T183000
DTEND;TZID=America/Chicago:20260312T210000
DTSTAMP:20260420T172727
CREATED:20250821T162122Z
LAST-MODIFIED:20250821T162122Z
UID:10008878-1773340200-1773349200@myso.org
SUMMARY:Philharmonia Rehearsal
DESCRIPTION:This content is MYSO members only. Please login to continue.
URL:https://myso.org/events/philharmonia-rehearsal-151/
LOCATION:Milwaukee Youth Arts Center\, 325 W Walnut St\, Milwaukee\, WI\, 53212
CATEGORIES:Rehearsals
END:VEVENT
END:VCALENDAR