BEGIN:VCALENDAR
VERSION:2.0
PRODID:-//MYSO - ECPv6.15.16//NONSGML v1.0//EN
CALSCALE:GREGORIAN
METHOD:PUBLISH
X-ORIGINAL-URL:https://myso.org
X-WR-CALDESC:Events for MYSO
REFRESH-INTERVAL;VALUE=DURATION:PT1H
X-Robots-Tag:noindex
X-PUBLISHED-TTL:PT1H
BEGIN:VTIMEZONE
TZID:America/Chicago
BEGIN:DAYLIGHT
TZOFFSETFROM:-0600
TZOFFSETTO:-0500
TZNAME:CDT
DTSTART:20210314T080000
END:DAYLIGHT
BEGIN:STANDARD
TZOFFSETFROM:-0500
TZOFFSETTO:-0600
TZNAME:CST
DTSTART:20211107T070000
END:STANDARD
BEGIN:DAYLIGHT
TZOFFSETFROM:-0600
TZOFFSETTO:-0500
TZNAME:CDT
DTSTART:20220313T080000
END:DAYLIGHT
BEGIN:STANDARD
TZOFFSETFROM:-0500
TZOFFSETTO:-0600
TZNAME:CST
DTSTART:20221106T070000
END:STANDARD
BEGIN:DAYLIGHT
TZOFFSETFROM:-0600
TZOFFSETTO:-0500
TZNAME:CDT
DTSTART:20230312T080000
END:DAYLIGHT
BEGIN:STANDARD
TZOFFSETFROM:-0500
TZOFFSETTO:-0600
TZNAME:CST
DTSTART:20231105T070000
END:STANDARD
END:VTIMEZONE
BEGIN:VEVENT
DTSTART;TZID=America/Chicago:20220227T134500
DTEND;TZID=America/Chicago:20220227T143000
DTSTAMP:20260420T144808
CREATED:20211011T200847Z
LAST-MODIFIED:20220227T233628Z
UID:10005755-1645969500-1645972200@myso.org
SUMMARY:Percussion Ensemble Dress Rehearsal
DESCRIPTION:
URL:https://myso.org/events/percussion-ensemble-dress-rehearsal-2/
LOCATION:Uihlein Hall (929 N Water St\, Milwaukee\, WI  53202)\, Uihlein Hall (929 N Water St\, Milwaukee\, WI 53202)
CATEGORIES:Rehearsals
END:VEVENT
END:VCALENDAR